BEGIN:VCALENDAR
VERSION:2.0
PRODID:-//Dennis P. Ramdhan Complex - ECPv6.15.20//NONSGML v1.0//EN
CALSCALE:GREGORIAN
METHOD:PUBLISH
X-WR-CALNAME:Dennis P. Ramdhan Complex
X-ORIGINAL-URL:https://www.dprcomplex.com
X-WR-CALDESC:Events for Dennis P. Ramdhan Complex
REFRESH-INTERVAL;VALUE=DURATION:PT1H
X-Robots-Tag:noindex
X-PUBLISHED-TTL:PT1H
BEGIN:VTIMEZONE
TZID:UTC
BEGIN:STANDARD
TZOFFSETFROM:+0000
TZOFFSETTO:+0000
TZNAME:UTC
DTSTART:20240101T000000
END:STANDARD
END:VTIMEZONE
BEGIN:VEVENT
DTSTART;TZID=UTC:20250329T090000
DTEND;TZID=UTC:20250329T180000
DTSTAMP:20260422T171147
CREATED:20250317T162427Z
LAST-MODIFIED:20250317T162427Z
UID:4218-1743238800-1743271200@www.dprcomplex.com
SUMMARY:Wedcon 2025
DESCRIPTION:
URL:https://www.dprcomplex.com/event/wedcon-2025/
ATTACH;FMTTYPE=image/jpeg:https://www.dprcomplex.com/wp-content/uploads/2025/03/wedcon-2025_page-0001.jpg
END:VEVENT
END:VCALENDAR