BEGIN:VCALENDAR
VERSION:2.0
PRODID:-//Dennis P. Ramdhan Complex - ECPv6.15.20//NONSGML v1.0//EN
CALSCALE:GREGORIAN
METHOD:PUBLISH
X-ORIGINAL-URL:https://www.dprcomplex.com
X-WR-CALDESC:Events for Dennis P. Ramdhan Complex
REFRESH-INTERVAL;VALUE=DURATION:PT1H
X-Robots-Tag:noindex
X-PUBLISHED-TTL:PT1H
BEGIN:VTIMEZONE
TZID:UTC
BEGIN:STANDARD
TZOFFSETFROM:+0000
TZOFFSETTO:+0000
TZNAME:UTC
DTSTART:20240101T000000
END:STANDARD
END:VTIMEZONE
BEGIN:VEVENT
DTSTART;TZID=UTC:20251031T220000
DTEND;TZID=UTC:20251101T030000
DTSTAMP:20260420T140537
CREATED:20250317T163014Z
LAST-MODIFIED:20250317T163014Z
UID:4222-1761948000-1761966000@www.dprcomplex.com
SUMMARY:Beyond The Grave
DESCRIPTION:
URL:https://www.dprcomplex.com/event/beyond-the-grave/
ATTACH;FMTTYPE=image/jpeg:https://www.dprcomplex.com/wp-content/uploads/2025/03/BTGR-_page-0001.jpg
END:VEVENT
END:VCALENDAR